BEGIN:VCALENDAR
VERSION:2.0
PRODID:-//Fülöpháza Község Weboldala//NONSGML kigkonsult.se iCalcreator 2.3
 0.10//
CALSCALE:GREGORIAN
METHOD:PUBLISH
UID:9999870b-dabb-43dc-8688-1e5db05aeee4
X-WR-CALNAME:iCagenda
X-WR-CALDESC:Event Management Extension for Joomla!
X-WR-RELCALID:3E26604A-50F4-4449-8B3E-E4F4932D05B5
X-WR-TIMEZONE:Europe/Budapest
BEGIN:VTIMEZONE
TZID:Europe/Budapest
BEGIN:STANDARD
TZNAME:CET
DTSTART:20191027T030000
TZOFFSETFROM:+0200
TZOFFSETTO:+0100
RDATE:20201025T030000
RDATE:20211031T030000
END:STANDARD
BEGIN:DAYLIGHT
TZNAME:CEST
DTSTART:20200329T020000
TZOFFSETFROM:+0100
TZOFFSETTO:+0200
RDATE:20210328T020000
END:DAYLIGHT
END:VTIMEZONE
BEGIN:VEVENT
UID:fba6be4d-3e9d-4886-b322-5143300811a8
DTSTAMP:20260421T034608Z
CATEGORIES:Events-2
CLASS:PUBLIC
DESCRIPTION;ALTREP="CID:<FFFF__=0ABBE548DFE235B58f9e8a93d@coffeebean.com>":
 Consectetuer adipiscing elit sed diam nonummy nibh euismod tinciduntal ut 
 laoreet dolore magna aliquam erat volutpat.
DTSTART:20200630T220000Z
DTEND:20200630T220000Z
GEO:00;0
LOCATION:
ORGANIZER:
SEQUENCE:1
SUMMARY:COVID Conversations: Mathematical Epidemiology
TRANSP:OPAQUE
URL:https://www.fulophaza.kerekegyhaza.hu/index.php/component/icagenda/6-co
 vid-conversations-mathematical-epidemiology/2020-07-01-00-00
END:VEVENT
END:VCALENDAR
